Workbook

Sheet List1
A1: Název - STC | B1: Rozměr | D1: Výkon Wp | E1: nominální napětí Vmp (Ump) [V] | F1: Napětí na prázdno Voc (Uoc) [V] | G1: Nominální proud Imp [A] | H1: Zkratový proud Isc [A] | I1: Účinnost % | J1: Wp m2 | K1: Teplotní koeficient Voc [%/°C] | L1: Teplotní koeficient Isc [%/°C] | M1: Teplotní koeficient Pmax [%/°C] | O1: Počet panelů | P1: Wp výsledný na střeše | Q1: Celkové napětí na prázdno Voc (Uoc) [V] | R1: Celkové nominální napětí Vmp (Ump) [V] | S1: Maximální napětí na prázdno Voc (Uoc) [V] v létě | T1: Maximální napětí na prázdno Voc (Uoc) [V] v zimě | U1: Maximální Zkratový proud Isc [A] v létě | V1: Maximální počet stringů | W1: Maximální počet panelů v každém stringu | X1: Minimální počet panelů v každém stringu | Y1: Optimální počet panelů v 1 poli | AA1: Pož. Výkon [W] | AB1: Pož počet panelů Ks | AC1: Teor výška (maximální 3m) | AD1: Teor. Délka na střeše [m] (Maximální 6.3m) | AE1: Cena / kus | AF1: Cena celkem
A2: Suntech STP305S-20/Wfhb | B2: 1670 | C2: 992 | D2: 305 | E2: 32.7 | F2: 40 | G2: 9.33 | H2: 9.68 | I2: 18.4 | J2: =D2/((B2*C2)/1000000) -> 184.10759 | K2: 0.34 | L2: 0.06 | M2: 0.4 | O2: =CEILING(AB2,1) -> 7 | P2: =O2*D2 -> 2135 | Q2: =O2*F2 -> 280 | R2: =O2*E2 -> 228.9 | S2: =F2*(1+(B35-25)*(-K2%)) -> 37.552 | T2: =F2*(1+(B34-25)*(-K2%)) -> 46.12 | U2: =H2*(1+(B35-25)*(-L2%)) -> 9.575456 | V2: =FLOOR(B28/U2,1) -> 5 | W2: =FLOOR(B29/T2,1) -> 4 | X2: =CEILING(B32/S2,1) -> 2 | Y2: =CEILING(B30/T2,1) -> 4 | AA2: 2000 | AB2: =AA2/D2 -> 6.557377 | AC2: =C2*2 -> 1984 | AD2: =O2*B2/1000 -> 11.69 | AF2: =O2*AE2 -> 0
A3: Suntech STP360S-B60/Wnhb | B3: 1039 | C3: 1756 | D3: 360 | E3: 33.9 | F3: 40.5 | G3: 10.62 | H3: 11.35 | I3: 19.7 | J3: =D3/((B3*C3)/1000000) -> 197.31606 | K3: 0.304 | L3: 0.05 | M3: 0.37 | O3: =CEILING(AB3,1) -> 6 | P3: =O3*D3 -> 2160 | Q3: =O3*F3 -> 243 | R3: =O3*E3 -> 203.4 | S3: =F3*(1+(B35-25)*(-K3%)) -> 38.28384 | T3: =F3*(1+(B34-25)*(-K3%)) -> 46.0404 | U3: =H3*(1+(B35-25)*(-L3%)) -> 11.24785 | V3: =FLOOR(B28/U3,1) -> 4 | W3: =FLOOR(B29/T3,1) -> 4 | X3: =CEILING(B32/S3,1) -> 2 | Y3: =CEILING(B30/T3,1) -> 4 | AA3: =AA2 -> 2000 | AB3: =AA2/D3 -> 5.5555556 | AC3: =C3*2 -> 3512 | AD3: =O3*B3/1000 -> 6.234 | AF3: =O3*AE3 -> 0
A4: Suntech STP400S-C54/Umhb | B4: 1134 | C4: 1724 | D4: 400 | E4: 31.18 | F4: 37.04 | G4: 12.83 | H4: 13.73 | I4: 20.5 | J4: =D4/((B4*C4)/1000000) -> 204.60191 | K4: 0.304 | L4: 0.05 | M4: 0.36 | O4: =CEILING(AB4,1) -> 5 | P4: =O4*D4 -> 2000 | Q4: =O4*F4 -> 185.2 | R4: =O4*E4 -> 155.9 | S4: =F4*(1+(B35-25)*(-K4%)) -> 35.013171 | T4: =F4*(1+(B34-25)*(-K4%)) -> 42.107072 | U4: =H4*(1+(B35-25)*(-L4%)) -> 13.60643 | V4: =FLOOR(B28/U4,1) -> 3 | W4: =FLOOR(B29/T4,1) -> 4 | X4: =CEILING(B32/S4,1) -> 2 | Y4: =CEILING(B30/T4,1) -> 5 | AA4: =AA2 -> 2000 | AB4: =AA2/D4 -> 5 | AC4: =C4*2 -> 3448 | AD4: =O4*B4/1000 -> 5.67 | AE4: 3578 | AF4: =O4*AE4 -> 17890
A5: AIKO Neostar 2S-A500-MAH60Mb | B5: 1134 | C5: 1954 | D5: 500 | E5: 37.9 | F5: 45.02 | G5: 13.02 | H5: 14.05 | I5: 22.6 | J5: =D5/((B5*C5)/1000000) -> 225.64847 | K5: 0.22 | L5: 0.05 | M5: 0.26 | O5: =CEILING(AB5,1) -> 4 | P5: =O5*D5 -> 2000 | Q5: =O5*F5 -> 180.08 | R5: =O5*E5 -> 151.6 | S5: =F5*(1+(B35-25)*(-K5%)) -> 43.237208 | T5: =F5*(1+(B34-25)*(-K5%)) -> 49.47698 | U5: =H5*(1+(B35-25)*(-L5%)) -> 13.92355 | V5: =FLOOR(B28/U5,1) -> 3 | W5: =FLOOR(B29/T5,1) -> 4 | X5: =CEILING(B32/S5,1) -> 2 | Y5: =CEILING(B30/T5,1) -> 4 | AA5: =AA2 -> 2000 | AB5: =AA2/D5 -> 4 | AC5: =C5*2 -> 3908 | AD5: =O5*B5/1000 -> 4.536 | AE5: 3789 | AF5: =O5*AE5 -> 15156
A6: AIKO Neostar 2S-A445-MAH54Mb | B6: 1134 | C6: 1722 | D6: 445 | E6: 33.6 | F6: 40.59 | G6: 13.25 | H6: 14.02 | I6: 22.8 | J6: =D6/((B6*C6)/1000000) -> 227.88399 | K6: 0.22 | L6: 0.05 | M6: 0.26 | O6: =CEILING(AB6,1) -> 5 | P6: =O6*D6 -> 2225 | Q6: =O6*F6 -> 202.95 | R6: =O6*E6 -> 168 | S6: =F6*(1+(B35-25)*(-K6%)) -> 38.982636 | T6: =F6*(1+(B34-25)*(-K6%)) -> 44.60841 | U6: =H6*(1+(B35-25)*(-L6%)) -> 13.89382 | V6: =FLOOR(B28/U6,1) -> 3 | W6: =FLOOR(B29/T6,1) -> 4 | X6: =CEILING(B32/S6,1) -> 2 | Y6: =CEILING(B30/T6,1) -> 5 | AA6: =AA2 -> 2000 | AB6: =AA2/D6 -> 4.494382 | AC6: =C6*2 -> 3444 | AD6: =O6*B6/1000 -> 5.67 | AE6: 2306 | AF6: =O6*AE6 -> 11530
A7: AIK0 Neostar 2P-A470-MAH54Mw | B7: 1134 | C7: 1757 | D7: 470 | E7: 33.9 | F7: 40.89 | G7: 13.87 | H7: 14.61 | I7: 23.6 | J7: =D7/((B7*C7)/1000000) -> 235.89191 | K7: 0.22 | L7: 0.05 | M7: 0.26 | O7: =CEILING(AB7,1) -> 5 | P7: =O7*D7 -> 2350 | Q7: =O7*F7 -> 204.45 | R7: =O7*E7 -> 169.5 | S7: =F7*(1+(B35-25)*(-K7%)) -> 39.270756 | T7: =F7*(1+(B34-25)*(-K7%)) -> 44.93811 | U7: =H7*(1+(B35-25)*(-L7%)) -> 14.47851 | V7: =FLOOR(B28/U7,1) -> 3 | W7: =FLOOR(B29/T7,1) -> 4 | X7: =CEILING(B32/S7,1) -> 2 | Y7: =CEILING(B30/T7,1) -> 5 | AA7: =AA2 -> 2000 | AB7: =AA2/D6 -> 4.494382 | AC7: =C7*2 -> 3514 | AD7: =O7*B7/1000 -> 5.67 | AE7: 3625 | AF7: =O7*AE7 -> 18125
A8: AIK0-A450-MAH54Db | B8: 1134 | C8: 1722 | D8: 450 | E8: 33.89 | F8: 40.25 | G8: 13.28 | H8: 13.66 | I8: 23 | J8: =D8/((B8*C8)/1000000) -> 230.44448 | K8: 0.24 | L8: 0.05 | M8: 0.29 | O8: =CEILING(AB8,1) -> 5 | P8: =O8*D8 -> 2250 | Q8: =O8*F8 -> 201.25 | R8: =O8*E8 -> 169.45 | S8: =F8*(1+(B35-25)*(-K8%)) -> 38.5112 | T8: =F8*(1+(B34-25)*(-K8%)) -> 44.597 | U8: =H8*(1+(B35-25)*(-L8%)) -> 13.53706 | V8: =FLOOR(B28/U8,1) -> 3 | W8: =FLOOR(B29/T8,1) -> 4 | X8: =CEILING(B32/S8,1) -> 2 | Y8: =CEILING(B30/T8,1) -> 5 | AA8: =AA2 -> 2000 | AB8: =AA2/D8 -> 4.4444444 | AC8: =C8*2 -> 3444 | AD8: =O8*B8/1000 -> 5.67 | AE8: 4491 | AF8: =O8*AE8 -> 22455
A9: AIKO-A440-MAH54Mb | B9: 1134 | C9: 1722 | D9: 440 | E9: 33.5 | F9: 40.49 | G9: 13.14 | H9: 13.91 | I9: 22.5 | J9: =D9/((B9*C9)/1000000) -> 225.32349 | K9: 0.22 | L9: 0.05 | M9: 0.26 | O9: =CEILING(AB9,1) -> 5 | P9: =O9*D9 -> 2200 | Q9: =O9*F9 -> 202.45 | R9: =O9*E9 -> 167.5 | S9: =F9*(1+(B35-25)*(-K9%)) -> 38.886596 | T9: =F9*(1+(B34-25)*(-K9%)) -> 44.49851 | U9: =H9*(1+(B35-25)*(-L9%)) -> 13.78481 | V9: =FLOOR(B28/U9,1) -> 3 | W9: =FLOOR(B29/T9,1) -> 4 | X9: =CEILING(B32/S9,1) -> 2 | Y9: =CEILING(B30/T9,1) -> 5 | AA9: =AA2 -> 2000 | AB9: =AA2/D9 -> 4.5454545 | AC9: =C9*2 -> 3444 | AD9: =O9*B9/1000 -> 5.67 | AE9: 2014 | AF9: =O9*AE9 -> 10070
A10: JINKO JKM435N-54HL4R-B | B10: 1134 | C10: 1762 | D10: 435 | E10: 32.78 | F10: 39.36 | G10: 13.27 | H10: 13.72 | I10: 21.77 | J10: =D10/((B10*C10)/1000000) -> 217.70595 | K10: 0.25 | L10: 0.045 | M10: 0.29 | O10: =CEILING(AB10,1) -> 5 | P10: =O10*D10 -> 2175 | Q10: =O10*F10 -> 196.8 | R10: =O10*E10 -> 163.9 | S10: =F10*(1+(B35-25)*(-K10%)) -> 37.5888 | T10: =F10*(1+(BF44-25)*(-K10%)) -> 41.82 | U10: =H10*(1+(B35-25)*(-L10%)) -> 13.608868 | V10: =FLOOR(B28/U10,1) -> 3 | W10: =FLOOR(B29/T10,1) -> 4 | X10: =CEILING(B32/S10,1) -> 2 | Y10: =CEILING(B30/T10,1) -> 5 | AA10: =AA2 -> 2000 | AB10: =AA2/D10 -> 4.5977011 | AC10: =C10*2 -> 3524 | AD10: =O10*B10/1000 -> 5.67 | AE10: 1900 | AF10: =O10*AE10 -> 9500
A11: JA SOLAR JAM54S31-395/MR | B11: 1134 | C11: 1722 | D11: 395 | E11: 30.84 | F11: 36.98 | G11: 12.81 | H11: 13.7 | I11: 20.2 | J11: =D11/((B11*C11)/1000000) -> 202.27904 | K11: 0.275 | L11: 0.045 | M11: 0.35 | O11: =CEILING(AB11,1) -> 6 | P11: =O11*D11 -> 2370 | Q11: =O11*F11 -> 221.88 | R11: =O11*E11 -> 185.04 | S11: =F11*(1+(B35-25)*(-K11%)) -> 35.14949 | T11: =F11*(1+(B34-25)*(-K11%)) -> 41.556275 | U11: =H11*(1+(B35-25)*(-L11%)) -> 13.58903 | V11: =FLOOR(B28/U11,1) -> 3 | W11: =FLOOR(B29/T11,1) -> 4 | X11: =CEILING(B32/S11,1) -> 2 | Y11: =CEILING(B30/T11,1) -> 5 | AA11: =AA2 -> 2000 | AB11: =AA2/D11 -> 5.0632911 | AC11: =C11*2 -> 3444 | AD11: =O11*B11/1000 -> 6.804 | AE11: 1755 | AF11: =O11*AE11 -> 10530
A12: JA SOLAR JAM72S20-465/MR | B12: 1052 | C12: 2112 | D12: 465 | E12: 42.43 | F12: 50.15 | G12: 10.96 | H12: 11.49 | I12: 20.9 | J12: =D12/((B12*C12)/1000000) -> 209.2875 | K12: 0.272 | L12: 0.044 | M12: 0.35 | O12: =CEILING(AB12,1) -> 5 | P12: =O12*D12 -> 2325 | Q12: =O12*F12 -> 250.75 | R12: =O12*E12 -> 212.15 | S12: =F12*(1+(B35-25)*(-K12%)) -> 47.694656 | T12: =F12*(1+(B34-25)*(-K12%)) -> 56.28836 | U12: =H12*(1+(B35-25)*(-L12%)) -> 11.398999 | V12: =FLOOR(B28/U12,1) -> 4 | W12: =FLOOR(B29/T12,1) -> 3 | X12: =CEILING(B32/S12,1) -> 2 | Y12: =CEILING(B30/T12,1) -> 4 | AA12: =AA2 -> 2000 | AB12: =AA3/D12 -> 4.3010753 | AC12: =C12*2 -> 4224 | AD12: =O12*B12/1000 -> 5.26 | AE12: 2500 | AF12: =O12*AE12 -> 12500
A13: Canadian Solar CS6R-435T - řada N-type - TOPHiKu6 | B13: 1134 | C13: 1722 | D13: 435 | E13: 32.2 | F13: 39.2 | G13: 13.51 | H13: 13.94 | I13: 22.3 | J13: =D13/((B13*C13)/1000000) -> 222.763 | K13: 0.25 | L13: 0.05 | M13: 0.29 | O13: =CEILING(AB13,1) -> 5 | P13: =O13*D13 -> 2175 | Q13: =O13*F13 -> 196 | R13: =O13*E13 -> 161 | S13: =F13*(1+(B35-25)*(-K13%)) -> 37.436 | T13: =F13*(1+(B34-25)*(-K13%)) -> 43.61 | U13: =H13*(1+(B35-25)*(-L13%)) -> 13.81454 | V13: =FLOOR(B28/U13,1) -> 3 | W13: =FLOOR(B29/T13,1) -> 4 | X13: =CEILING(B32/S13,1) -> 2 | Y13: =CEILING(B30/T13,1) -> 5 | AA13: =AA2 -> 2000 | AB13: =AA2/D13 -> 4.5977011 | AC13: =C13*2 -> 3444 | AD13: =O13*B13/1000 -> 5.67 | AE13: 2102 | AF13: =O13*AE13 -> 10510
A14: DAH Solar DHM-60L9-380W | B14: 1038 | C14: 1755 | D14: 380 | E14: 34.6 | F14: 41.4 | G14: 10.98 | H14: 11.48 | I14: 20.86 | J14: =D14/((B14*C14)/1000000) -> 208.59751 | K14: 0.31 | L14: 0.5 | M14: 0.35 | O14: =CEILING(AB14,1) -> 6 | P14: =O14*D14 -> 2280 | Q14: =O14*F14 -> 248.4 | R14: =O14*E14 -> 207.6 | S14: =F14*(1+(B35-25)*(-K14%)) -> 39.08988 | T14: =F14*(1+(B34-25)*(-K14%)) -> 47.1753 | U14: =H14*(1+(B35-25)*(-L14%)) -> 10.4468 | V14: =FLOOR(B28/U14,1) -> 4 | W14: =FLOOR(B29/T14,1) -> 4 | X14: =CEILING(B32/S14,1) -> 2 | Y14: =CEILING(B30/T14,1) -> 4 | AA14: =AA2 -> 2000 | AB14: =AA2/D14 -> 5.2631579 | AC14: =C14*2 -> 3510 | AD14: =O14*B14/1000 -> 6.228 | AE14: 2507 | AF14: =O14*AE14 -> 15042
A15: DAH Solar DHN-60X16/FS (BB) | B15: 1134 | C15: 1903 | D15: 485 | E15: 36.6 | F15: 43 | G15: 13.25 | H15: 14.08 | I15: 22.47 | J15: =D15/((B15*C15)/1000000) -> 224.74493 | K15: 0.25 | L15: 0.046 | M15: 0.29 | O15: =CEILING(AB15,1) -> 5 | P15: =O15*D15 -> 2425 | Q15: =O15*F15 -> 215 | R15: =O15*E15 -> 183 | S15: =F15*(1+(B35-25)*(-K15%)) -> 41.065 | T15: =F15*(1+(B34-25)*(-K15%)) -> 47.8375 | U15: =H15*(1+(B35-25)*(-L15%)) -> 13.963418 | V15: =FLOOR(B28/U15,1) -> 3 | W15: =FLOOR(B29/T15,1) -> 4 | X15: =CEILING(B32/S15,1) -> 2 | Y15: =CEILING(B30/T15,1) -> 4 | AA15: =AA2 -> 2000 | AB15: =AA2/D15 -> 4.1237113 | AC15: =C15*2 -> 3806 | AD15: =O15*B15/1000 -> 5.67 | AE15: 2350 | AF15: =O15*AE15 -> 11750
A16: Trina Solar TSM-440NEG9R.25 | B16: 1134 | C16: 1762 | D16: 440 | E16: 44 | F16: 52.2 | G16: 10.01 | H16: 10.67 | I16: 22 | J16: =D16/((B16*C16)/1000000) -> 220.20832 | K16: 0.24 | L16: 0.04 | M16: 0.29 | O16: =CEILING(AB16,1) -> 5 | P16: =O16*D16 -> 2200 | Q16: =O16*F16 -> 261 | R16: =O16*E16 -> 220 | S16: =F16*(1+(B35-25)*(-K16%)) -> 49.94496 | T16: =F16*(1+(B34-25)*(-K16%)) -> 57.8376 | U16: =H16*(1+(B35-25)*(-L16%)) -> 10.593176 | V16: =FLOOR(B28/U16,1) -> 4 | W16: =FLOOR(B29/T16,1) -> 3 | X16: =CEILING(B32/S16,1) -> 2 | Y16: =CEILING(B30/T16,1) -> 4 | AA16: =AA2 -> 2000 | AB16: =AA2/D16 -> 4.5454545 | AC16: =C16*2 -> 3524 | AD16: =O16*B16/1000 -> 5.67 | AE16: 2457 | AF16: =O16*AE16 -> 12285
A17: Trina Solar TSM-450NEG9R.25 | B17: 1134 | C17: 1762 | D17: 450 | E17: 44.6 | F17: 52.9 | G17: 10.09 | H17: 10.74 | I17: 22.5 | J17: =D17/((B17*C17)/1000000) -> 225.21305 | K17: 0.24 | L17: 0.04 | M17: 0.29 | O17: =CEILING(AB17,1) -> 5 | P17: =O17*D17 -> 2250 | Q17: =O17*F17 -> 264.5 | R17: =O17*E17 -> 223 | S17: =F17*(1+(B35-25)*(-K17%)) -> 50.61472 | T17: =F17*(1+(B34-25)*(-K17%)) -> 58.6132 | U17: =H17*(1+(B35-25)*(-L17%)) -> 10.662672 | V17: =FLOOR(B28/U17,1) -> 4 | W17: =FLOOR(B29/T17,1) -> 3 | X17: =CEILING(B32/S17,1) -> 1 | Y17: =CEILING(B30/T17,1) -> 4 | AA17: =AA2 -> 2000 | AB17: =AA2/D17 -> 4.4444444 | AC17: =C17*2 -> 3524 | AD17: =O17*B17/1000 -> 5.67 | AE17: 2458 | AF17: =O17*AE17 -> 12290
A18: Trina Solar TSM-435NEG9R.28 | B18: 1134 | C18: 1762 | D18: 435 | E18: 43.6 | F18: 51.8 | G18: 9.99 | H18: 10.64 | I18: 21.8 | J18: =D18/((B18*C18)/1000000) -> 217.70595 | K18: 0.24 | L18: 0.04 | M18: 0.29 | O18: =CEILING(AB18,1) -> 5 | P18: =O18*D18 -> 2175 | Q18: =O18*F18 -> 259 | R18: =O18*E18 -> 218 | S18: =F18*(1+(B35-25)*(-K18%)) -> 49.56224 | T18: =F18*(1+(B34-25)*(-K18%)) -> 57.3944 | U18: =H18*(1+(B35-25)*(-L18%)) -> 10.563392 | V18: =FLOOR(B28/U18,1) -> 4 | W18: =FLOOR(B29/T18,1) -> 3 | X18: =CEILING(B32/S18,1) -> 2 | Y18: =CEILING(B30/T18,1) -> 4 | AA18: =AA2 -> 2000 | AB18: =AA2/D18 -> 4.5977011 | AC18: =C18*2 -> 3524 | AD18: =O18*B18/1000 -> 5.67 | AE18: 2253 | AF18: =O18*AE18 -> 11265
A19: Trina Solar TSM-490NEG18R.28 | B19: 1134 | C19: 1961 | D19: 490 | E19: 32.9 | F19: 39.6 | G19: 14.91 | H19: 15.8 | I19: 22 | J19: =D19/((B19*C19)/1000000) -> 220.34613 | K19: 0.24 | L19: 0.04 | M19: 0.29 | O19: =CEILING(AB19,1) -> 5 | P19: =O19*D19 -> 2450 | Q19: =O19*F19 -> 198 | R19: =O19*E19 -> 164.5 | S19: =F19*(1+(B35-25)*(-K19%)) -> 37.88928 | T19: =F19*(1+(B34-25)*(-K19%)) -> 43.8768 | U19: =H19*(1+(B35-25)*(-L19%)) -> 15.68624 | V19: =FLOOR(B28/U19,1) -> 3 | W19: =FLOOR(B29/T19,1) -> 4 | X19: =CEILING(B32/S19,1) -> 2 | Y19: =CEILING(B30/T19,1) -> 5 | AA19: =AA2 -> 2000 | AB19: =AA2/D19 -> 4.0816327 | AC19: =C19*2 -> 3922 | AD19: =O19*B19/1000 -> 5.67 | AE19: 2399 | AF19: =O19*AE19 -> 11995
A20: Trina Solar TSM-420DE09R.05 | B20: 1134 | C20: 1762 | D20: 420 | E20: 41.3 | F20: 49.7 | G20: 10.17 | H20: 10.69 | I20: 21 | J20: =D20/((B20*C20)/1000000) -> 210.19885 | K20: 0.25 | L20: 0.04 | M20: 0.34 | O20: =CEILING(AB20,1) -> 5 | P20: =O20*D20 -> 2100 | Q20: =O20*F20 -> 248.5 | R20: =O20*E20 -> 206.5 | S20: =F20*(1+(B35-25)*(-K20%)) -> 47.4635 | T20: =F20*(1+(B34-25)*(-K20%)) -> 55.29125 | U20: =H20*(1+(B35-25)*(-L20%)) -> 10.613032 | V20: =FLOOR(B28/U20,1) -> 4 | W20: =FLOOR(B29/T20,1) -> 3 | X20: =CEILING(B32/S20,1) -> 2 | Y20: =CEILING(B30/T20,1) -> 4 | AA20: =AA2 -> 2000 | AB20: =AA2/D20 -> 4.7619048 | AC20: =C20*2 -> 3524 | AD20: =O20*B20/1000 -> 5.67 | AE20: 2489 | AF20: =O20*AE20 -> 12445
A21: ELERIX ESM-580T | B21: 1134 | C21: 2279 | D21: 580 | E21: 42.19 | F21: 48.37 | G21: 13.75 | H21: 14.39 | I21: 22.46 | J21: =D21/((B21*C21)/1000000) -> 224.42468 | K21: 0.26 | L21: 0.046 | M21: 0.31 | O21: =CEILING(AB21,1) -> 4 | P21: =O21*D21 -> 2320 | Q21: =O21*F21 -> 193.48 | R21: =O21*E21 -> 168.76 | S21: =F21*(1+(B35-25)*(-K21%)) -> 46.106284 | T21: =F21*(1+(B34-25)*(-K21%)) -> 54.02929 | U21: =H21*(1+(B35-25)*(-L21%)) -> 14.270851 | V21: =FLOOR(B28/U21,1) -> 3 | W21: =FLOOR(B29/T21,1) -> 3 | X21: =CEILING(B32/S21,1) -> 2 | Y21: =CEILING(B30/T21,1) -> 4 | AA21: =AA2 -> 2000 | AB21: =AA3/D21 -> 3.4482759 | AC21: =C21*2 -> 4558 | AD21: =O21*B21/1000 -> 4.536 | AE21: 3108 | AF21: =O21*AE21 -> 12432
A22: JINKO JKM450N-54HL4R-V | B22: 1134 | C22: 1762 | D22: 450 | E22: 33.21 | F22: 39.78 | G22: 13.55 | H22: 14 | I22: 22.52 | J22: =D22/((B22*C22)/1000000) -> 225.21305 | K22: 0.25 | L22: 0.045 | M22: 0.29 | O22: =CEILING(AB22,1) -> 5 | P22: =O22*D22 -> 2250 | Q22: =O22*F22 -> 198.9 | R22: =O22*E22 -> 166.05 | S22: =F22*(1+(B35-25)*(-K22%)) -> 37.9899 | T22: =F22*(1+(B34-25)*(-K22%)) -> 44.25525 | U22: =H22*(1+(B35-25)*(-L22%)) -> 13.8866 | V22: =FLOOR(B28/U22,1) -> 3 | W22: =FLOOR(B29/T22,1) -> 4 | X22: =CEILING(B32/S22,1) -> 2 | Y22: =CEILING(B30/T22,1) -> 5 | AA22: 2000 | AB22: =AA4/D22 -> 4.4444444 | AC22: =C22*2 -> 3524 | AD22: =O22*B22/1000 -> 5.67 | AE22: 2158 | AF22: =O22*AE22 -> 10790
A23: Canadian Solar CS6R-420T | B23: 1134 | C23: 1722 | D23: 420 | E23: 31.6 | F23: 38.6 | G23: 13.3 | H23: 13.71 | I23: 21.5 | J23: =D23/((B23*C23)/1000000) -> 215.08152 | K23: 0.25 | L23: 0.05 | M23: 0.29 | O23: =CEILING(AB23,1) -> 5 | P23: =O23*D23 -> 2100 | Q23: =O23*F23 -> 193 | R23: =O23*E23 -> 158 | S23: =F23*(1+(B35-25)*(-K23%)) -> 36.863 | T23: =F23*(1+(B34-25)*(-K23%)) -> 42.9425 | U23: =H23*(1+(B35-25)*(-L23%)) -> 13.58661 | V23: =FLOOR(B28/U23,1) -> 3 | W23: =FLOOR(B29/T23,1) -> 4 | X23: =CEILING(B32/S23,1) -> 2 | Y23: =CEILING(B30/T23,1) -> 5 | AA23: 2000 | AB23: =AA5/D23 -> 4.7619048 | AC23: =C23*2 -> 3444 | AD23: =O23*B23/1000 -> 5.67 | AE23: 1730 | AF23: =O23*AE23 -> 8650
D26: String 1 (1,2,3,7) | F26: String 2 ( 4,8) | H26: String 3 (5,6,9)
B27: Tracer5420AN | D27: 2S2P - Tracer5415AN | F27: 1S2P - Tracer5415AN | H27: 1S3P - Tracer5420AN
A28: Nabíjecí proud | B28: =VLOOKUP(A28,List2!$A$3:$I$8,List2!$J$2,FALSE) -> 50 | C28: A | D28: =4*H17 -> 42.96 | E28: A | F28: =1*H17 -> 10.74 | G28: A | H28: =1*H17 -> 10.74 | I28: A
A29: Max Voc | B29: =VLOOKUP(A29,List2!$A$3:$I$8,List2!$J$2,FALSE) -> 200 | C29: V | D29: =2*T17 -> 117.2264 | E29: V | F29: =2*T17 -> 117.2264 | G29: V | H29: =3*T17 -> 175.8396 | I29: V
A30: Max Voc při 25°C | B30: =VLOOKUP(A30,List2!$A$3:$I$8,List2!$J$2,FALSE) -> 180 | C30: V | D30: =2*S17 -> 101.22944 | E30: V | F30: =2*S17 -> 101.22944 | G30: V | H30: =3*S17 -> 151.84416 | I30: V
A31: Max Vmpp | B31: =VLOOKUP(A31,List2!$A$3:$I$8,List2!$J$2,FALSE) -> 144 | C31: V | D31: =2*E17 -> 89.2 | E31: V | F31: =2*E17 -> 89.2 | G31: V | H31: =3*E17 -> 133.8 | I31: V
A32: Min Vmpp | B32: =VLOOKUP(A32,List2!$A$3:$I$8,List2!$J$2,FALSE) -> 50 | C32: V
A33: Max výkon | B33: =VLOOKUP(A33,List2!$A$3:$I$8,List2!$J$2,FALSE) -> 2500 | C33: W | D33: =4*D17 -> 1800 | E33: W | F33: =2*D17 -> 900 | G33: W | H33: =3*D17 -> 1350 | I33: W
A34: Min teplota okolí | B34: -20 | C34: °C
A35: Max teplota okolí | B35: 43 | C35: °C

Sheet List2
B1: Tracer5420AN | C1: Tracer6420AN | D1: Tracer6420AN | E1: Tracer10420AN | F1: Tracer5415AN | G1: Tracer6415AN | H1: Tracer8415AN | I1: Tracer10415AN | J1: Sloupec:
B2: 2 | C2: 3 | D2: 4 | E2: 5 | F2: 6 | G2: 7 | H2: 8 | I2: 9 | J2: =HLOOKUP(List1!B27,List2!B1:I2,2,FALSE) -> 2
A3: Nabíjecí proud | B3: 50 | C3: 60 | D3: 80 | E3: 100 | F3: 50 | G3: 60 | H3: 80 | I3: 100 | J3: A
A4: Max Voc | B4: 200 | C4: 200 | D4: 200 | E4: 200 | F4: 150 | G4: 150 | H4: 150 | I4: 150 | J4: V
A5: Max Voc při 25°C | B5: 180 | C5: 180 | D5: 180 | E5: 180 | F5: 138 | G5: 138 | H5: 138 | I5: 138 | J5: V
A6: Max Vmpp | B6: 144 | C6: 144 | D6: 144 | E6: 144 | F6: 108 | G6: 108 | H6: 108 | I6: 108 | J6: V
A7: Min Vmpp | B7: 50 | C7: 50 | D7: 50 | E7: 50 | F7: 50 | G7: 50 | H7: 50 | I7: 50 | J7: V
A8: Max výkon | B8: 2500 | C8: 3000 | D8: 4000 | E8: 5000 | F8: 2500 | G8: 3000 | H8: 4000 | I8: 5000 | J8: W

Sheet List3
B4: výkon W | D4: max DC od panelů [V] | F4: spínání MPPT [V] | G4: min doporučené napětí FVE [V] | H4: nabíječka [A] | I4: Max [A] | J4: spotřeba pohotovostní 2W | N4: účinnost % | P4: vlastní spotřeba W | Q4: Cena kč
A5: Growatt SPF 5000ES | B5: 5000 | D5: 450 | F5: 150 - 430 | H5: 100 | I5: 22 | N5: 93 | P5: 60 | Q5: 18000
A6: MUST PV1800 PRO 48V 5200W (PH18-5248 PRO) | B6: 5200 | D6: 450 | F6: 150 - 430 | H6: 100 | I6: 18 | J6: 2 | N6: 93 | Q6: 18999
A7: MUST PV1800 VHM (PV18-5048 VHM) | B7: 5000 | D7: 145 | F7: 30 - 130 | H7: 80 | J7: 2 | N7: 98 | Q7: 17000
A8: Axpert King II 48V 5000W | B8: 6000 | D8: 500 | F8: 120 - 430 | H8: 100 | J8: 2 | N8: 94 | Q8: 17000 | AA8: https://tienda-solar.es/en/inverters/1252-solar-inverter-axpert-king-ll-5000-48v
A9: Axpert VM IV 48V 5600W | B9: 6000 | D9: 500 | F9: 120 - 450 | H9: 120 | I9: 18 | J9: 2 | N9: 93 | Q9: 18500
A10: Axpert VM III 48V 5000W PF1 | B10: 5000 | D10: 500 | F10: 120 - 450 | G10: 160 | H10: 100 | J10: 10 | N10: 93 | P10: 55 | Q10: 12000 | AA10: https://tienda-solar.es/en/inverters/904-solar-inverter-charger-axpert-vm-iii-5000-48v
A11: Axpert MKS III 5000-48V | B11: 5000 | F11: 120 - 430 | N11: 93 | Q11: 16000 | AA11: https://tienda-solar.es/en/inverters/1862-solar-inverter-charger-axpert-mks-iii-5000-48v
A12: Axpert MKS IV TWIN 6.0Kw 48 | B12: 6000 | D12: 500 | F12: 120 - 430 | H12: 120 | I12: 27 | N12: 95 | Q12: 17000 | AA12: https://www.solarpower24.it/prodotto/voltronic-axpert-mks-iv-twin-6-0kw-48-volt-6000-48-inverter-solare-isola-off-grid/
A13: Axpert MAX 8000 | B13: 8000 | D13: 500 | F13: 90 - 450 | H13: 120 | N13: 93 | P13: 70 | Q13: 18000 | AA13: taratech.cz
E16: Cena kč
A17: Přepěťová ochrana VPU I 3 280V/12,5KA WEIDMÜLLER 1352200000 | E17: 4000
A18: Svodič přepětí Mersen Typ 1+2, 5kA, 1000V DC, PV - STPT12-5K1000V-YPV | E18: 2513
A19: Saltek Svodič přepětí FLP-12,5 V/3 | E19: 3854
A20: Svodič přepětí CITEL DS240S-220DC 310211 | E20: 980
A21: Kombinovaný svodič přepětí - Citel DS60VGPV-500 | E21: 4366
A22: Saltek FLP-PV550 V/U | E22: 3741
A23: Weidmüller 2591150000 VPU AC II 4 R 300/50 svodič přepětí 50 Ka | E23: 4500
A24: Svodič přepětí Weidmüller VPU PV I+II 3 600 E | E24: 1537 | F24: https://shop.kavoj.cz/vpu-pv-i-ii-3-600-e/
A25: pojistkový odpínač OEZ - OPVP22-2 - 22x58 | E25: 800
A26: Pojistkový odpínač OEZ - OPVP22-1 - 22x58 + Pojistka válcová OEZ PV22 20A gG | E26: 420
A27: Pojistka válcová OEZ PV22 20A gG | E27: 65
A28: pojistkový odpínač weidmüller WSI 25/2 10X38 1KV | E28: 208 | F28: https://shop.kavoj.cz/wsi-25-2-10x38-1kv/
A29: Pojistka 10X38 20A 1000 VDC GPV | E29: 95
A30: Jistič ETIMAT 10 DC 2p C 63A 6kA 002138722 | E30: 718
A31: Stejnosměrný jistič Schneider C60PV-DC B 16A - A9N61651 | E31: 1500
A32: Stykač Schneider iCT - A9C20842 | E32: 1600
A33: Schrack Instalační jistič 10 kA, B 2A, 3P | E33: 768
A34: Jistič Schneider iC60H - A9F06225 | E34: 800
A35: +
A36: Signalizační kontakt Acti9 iOF, 2-100 mA, svorky shora - A9A26915 | E36: 530
A38: pro odpojení FV od sítě
A39: Vypínač iSW do 32 A - A9S60232 | E39: 550
A40: +
A41: Signalizační kontakt Acti9 iOF, 2-100 mA, svorky shora - A9A26915 | E41: 530
A43: Elko HRN-55 Hlídací napěťové relé - 3 fázové AC 3x400V | E43: 877
A44: 002138722 Jistič ETIMAT 10-DC 2p C63 6kA, ETI | E44: 756 | F44: https://www.elima.cz/c/305/jistice
C47: kusů | D47: EUR/ks | E47: Cena kč | F47: cena celkem | G47: Ah | H47: baterie Kwh
A48: REPT CB75 314Ah - LiFePO4 - 3.2V grade A | C48: 16 | D48: 63 | E48: 1584 | F48: =E48*C48 -> 25344 | G48: 314 | H48: =3.2*G48*C48/1000 -> 16.0768 | I48: https://eu.nkon.nl/rechargeable/lifepo4/prismatisch/rept-cb75-314ah-lifepo4-3-2v-grade-a.html
A49: 16 x nvision ESS 4LH3L7 280Ah - LiFePO4 - 3.2V grade A - 14Kwh | C49: 16 | D49: 58 | E49: 1458 | F49: =E49*C49 -> 23328 | G49: 280 | H49: =3.2*G49*C49/1000 -> 14.336 | I49: https://www.nkon.nl/en/envision-ess-4lh3l7-280ah-lifepo4-3-2v-a-grade.html
A50: Jikong Smart BMS – aktivní balancér 8S-20S 200A | E50: 4599 | I50: https://www.mivvyenergy.cz/cs/bms-a-balancery/bms-s-aktivnim-balancerem-smart-8s-20s-200a-32v-jikong.html
A51: JBD BMS 8S-20S LiFePO4 200A 3,6V Smart Bluetooth | E51: 2499 | I51: https://www.mivvyenergy.cz/cs/bms-a-balancery/bms-pro-clanky-lifepo4/bms-8s-20s-lifepo4-200a-36v-smart-bluetooth.html
A52: Pojistkový odpínač OEZ OPVP10-1 10x38 1P + Pojistka válcová OEZ PV10 20A gG | E52: 120
A53: Pojistka válcová OEZ PV10 20A gG | E53: 30
A55: Kabel od panelů do střídače
A56: od rozvaděče do střídače CYKY-J 3 × 4 mm2 (CYKY-J 5 × 4 mm2 )
A57: chránička 50mm
A58: Solární kabel PV1-F 6mm2, 1kV - černý | C58: 20 | D58: 30 | E58: =D58*C58 -> 600 | G58: vnější průměr 6,5mm
A59: Solární kabel PV1-F 6mm2, 1kV - červený | C59: 20 | D59: 30 | E59: =D59*C59 -> 600 | G59: kabel 10mm2 vnější průměr 7,5mm
D67: Solární kabel PV1-F 6mm2, 1kV - 20 metrů | H67: Silový vodič H07V-U 6,00 6 mm2 - 0.5 metru | O67: CYKY-J 5 × 4 mm2 - 0.5 metru
H76: CYKY-J 5 × 4 mm2 | O76: Kabel 50mm2 - 0.5 metru | T76: CYKY-J 5 × 4 mm2 - 7 metrů
D77: CYKY-J 5 × 4 mm2 - 7 metrů
A89: Název - STC (STC) | B89: Rozměr | D89: Výkon Wp | E89: nominální napětí Vmp (Ump) [V] | F89: Napětí na prázdno Voc (Uoc) [V] | G89: Nominální proud Imp [A] | H89: Zkratový proud Isc [A] | I89: Účinnost % | J89: Wp m2 | O89: Počet panelů | P89: Wp výsledný na střeše | Q89: Celkové napětí na prázdno Voc (Uoc) [V] | R89: Celkové nominální napětí Vmp (Ump) [V] | T89: Celkové napětí na prázdno Voc (Uoc) [V] + 15% | AA89: Pož. Výkon [W] | AB89: Pož počet panelů Ks | AD89: Teor. Délka na střeše [m] (Maximální 6.3m) | AE89: Cena / kus | AF89: Cena celkem
A90: Trina Solar TSM-450NEG9R.25 | B90: 1134 | C90: 1762 | D90: 450 | E90: 44.6 | F90: 52.9 | G90: 10.09 | H90: 10.74 | I90: 22.5 | J90: =D90/((B90*C90)/1000000) -> 225.21305 | O90: 2 | P90: =O90*D90 -> 900 | Q90: =O90*F90 -> 105.8 | R90: =O90*E90 -> 89.2 | T90: =(Q90*14%)+Q90 -> 120.612 | AA90: 2000 | AB90: =AA90/D90 -> 4.4444444 | AD90: =O90*B90/1000 -> 2.268 | AE90: 2458 | AF90: =O90*AE90 -> 4916
A91: AIKO-A500-MAH60Mb | B91: 1134 | C91: 1954 | D91: 500 | E91: 37.9 | F91: 45.02 | G91: 13.02 | H91: 14.05 | I91: 22.6 | J91: =D91/((B91*C91)/1000000) -> 225.64847 | O91: 1 | P91: =O91*D91 -> 500 | Q91: =O91*F91 -> 45.02 | R91: =O91*E91 -> 37.9 | T91: =(Q91*14%)+Q91 -> 51.3228 | AA91: 2000 | AB91: =AA91/D91 -> 4 | AD91: =O91*B91/1000 -> 1.134 | AE91: 3318 | AF91: =O91*AE91 -> 3318
P92: =SUM(P90:P91) -> 1400 | Q92: =SUM(Q90:Q91) -> 150.82 | R92: =SUM(R90:R91) -> 127.1 | T92: =SUM(T90:T91) -> 171.9348 | AF92: =SUM(AF90:AF91) -> 8234
