Workbook

Sheet Form
H1: CZ | J1: =IF(H3=5,INDEX(Language!B4:F35,29,1),IF(H3=4,INDEX(Language!B4:F35,29,2),IF(H3=3,INDEX(Language!B4:F35,29,3),IF(H3=2,INDEX(Language!B4:F35,29,4),INDEX(Language!B4:F35,29,5))))) -> Napětové okno | R1: =IF(H3=5,INDEX(Language!B4:F35,30,1),IF(H3=4,INDEX(Language!B4:F35,30,2),IF(H3=3,INDEX(Language!B4:F35,30,3),IF(H3=2,INDEX(Language!B4:F35,30,4),INDEX(Language!B4:F35,30,5))))) -> Proudové okno
H3: 4
B4: =IF(H3=5,INDEX(Language!B4:F35,1,1),IF(H3=4,INDEX(Language!B4:F35,1,2),IF(H3=3,INDEX(Language!B4:F35,1,3),IF(H3=2,INDEX(Language!B4:F35,1,4),INDEX(Language!B4:F35,1,5))))) -> Panel | D4: 3
B6: =IF(H3=5,INDEX(Language!B4:F35,2,1),IF(H3=4,INDEX(Language!B4:F35,2,2),IF(H3=3,INDEX(Language!B4:F35,2,3),IF(H3=2,INDEX(Language!B4:F35,2,4),INDEX(Language!B4:F35,2,5))))) -> V serii | D6: 2 | F6: =IF(H3=5,INDEX(Language!B4:F35,3,1),IF(H3=4,INDEX(Language!B4:F35,3,2),IF(H3=3,INDEX(Language!B4:F35,3,3),IF(H3=2,INDEX(Language!B4:F35,3,4),INDEX(Language!B4:F35,3,5))))) -> Paralelně | G6: 5
H7: 24
B8: =IF(H3=5,INDEX(Language!B4:F35,4,1),IF(H3=4,INDEX(Language!B4:F35,4,2),IF(H3=3,INDEX(Language!B4:F35,4,3),IF(H3=2,INDEX(Language!B4:F35,4,4),INDEX(Language!B4:F35,4,5))))) -> Celkový výkon PV | D8: =D6*G6*INDEX(Modules!B3:J29,Form!D4,3) -> 2250 | E8: =IF(H3=5,INDEX(Language!B4:F35,5,1),IF(H3=4,INDEX(Language!B4:F35,5,2),IF(H3=3,INDEX(Language!B4:F35,5,3),IF(H3=2,INDEX(Language!B4:F35,5,4),INDEX(Language!B4:F35,5,5))))) -> Wp
E9: 10 | G9: 0
B10: =IF(H3=5,INDEX(Language!B4:F35,6,1),IF(H3=4,INDEX(Language!B4:F35,6,2),IF(H3=3,INDEX(Language!B4:F35,6,3),IF(H3=2,INDEX(Language!B4:F35,6,4),INDEX(Language!B4:F35,6,5))))) -> Teplota panelu | D10: =IF(H3=5,INDEX(Language!B4:F35,7,1),IF(H3=4,INDEX(Language!B4:F35,7,2),IF(H3=3,INDEX(Language!B4:F35,7,3),IF(H3=2,INDEX(Language!B4:F35,7,4),INDEX(Language!B4:F35,7,5))))) -> Min. | E10: =E9-25 -> -15 | F10: =IF(H3=5,INDEX(Language!B4:F35,8,1),IF(H3=4,INDEX(Language!B4:F35,8,2),IF(H3=3,INDEX(Language!B4:F35,8,3),IF(H3=2,INDEX(Language!B4:F35,8,4),INDEX(Language!B4:F35,8,5))))) -> Max. | G10: 70 | K10: 2.5
J11: =INDEX(Regulator!K2:N38,Form!$C$12,1) -> 12 | K11: 4
B12: =IF(H3=5,INDEX(Language!B4:F35,9,1),IF(H3=4,INDEX(Language!B4:F35,9,2),IF(H3=3,INDEX(Language!B4:F35,9,3),IF(H3=2,INDEX(Language!B4:F35,9,4),INDEX(Language!B4:F35,9,5))))) -> Regulátor | C12: 25 | J12: =INDEX(Regulator!K2:N38,Form!$C$12,2) -> 24 | K12: 6
J13: =INDEX(Regulator!K2:N38,Form!$C$12,3) -> 36 | K13: 10
B14: =IF(H3=5,INDEX(Language!B4:F35,10,1),IF(H3=4,INDEX(Language!B4:F35,10,2),IF(H3=3,INDEX(Language!B4:F35,10,3),IF(H3=2,INDEX(Language!B4:F35,10,4),INDEX(Language!B4:F35,10,5))))) -> Systémové napětí | E14: 2 | F14: Volt | J14: =INDEX(Regulator!K2:N38,Form!$C$12,4) -> 48 | K14: 25
B16: =IF(H3=5,INDEX(Language!B4:F35,31,1),IF(H3=4,INDEX(Language!B4:F35,31,2),IF(H3=3,INDEX(Language!B4:F35,31,3),IF(H3=2,INDEX(Language!B4:F35,31,4),INDEX(Language!B4:F35,31,5))))) -> Délka Kabelu do MPPT * | E16: 14 | F16: =IF(H3=5,INDEX(Language!B4:F35,32,1),IF(H3=4,INDEX(Language!B4:F35,32,2),IF(H3=3,INDEX(Language!B4:F35,32,3),IF(H3=2,INDEX(Language!B4:F35,32,4),INDEX(Language!B4:F35,32,5))))) -> Průřez: | G16: =INDEX(K10:K14,H16,1) -> 6 | H16: 3
B17: =IF(H3=5,INDEX(Language!B4:F36,33,1),IF(H3=4,INDEX(Language!B4:F36,33,2),IF(H3=3,INDEX(Language!B4:F36,33,3),IF(H3=2,INDEX(Language!B4:F36,33,4),INDEX(Language!B4:F36,33,5))))) -> * Délka jedním směrem
B18: =IF(H3=5,INDEX(Language!B4:F35,11,1),IF(H3=4,INDEX(Language!B4:F35,11,2),IF(H3=3,INDEX(Language!B4:F35,11,3),IF(H3=2,INDEX(Language!B4:F35,11,4),INDEX(Language!B4:F35,11,5))))) -> Max vstup napětí | F18: =INDEX(Regulator!$B$2:$H$38,Form!$C$12,7) -> 200
B19: =IF(H3=5,INDEX(Language!B4:F35,12,1),IF(H3=4,INDEX(Language!B4:F35,12,2),IF(H3=3,INDEX(Language!B4:F35,12,3),IF(H3=2,INDEX(Language!B4:F35,12,4),INDEX(Language!B4:F35,12,5))))) -> Max napětí PV MIN Teplota | F19: ='Calculation table'!E28 -> 81.3272
B20: =IF(H3=5,INDEX(Language!B4:F35,13,1),IF(H3=4,INDEX(Language!B4:F35,13,2),IF(H3=3,INDEX(Language!B4:F35,13,3),IF(H3=2,INDEX(Language!B4:F35,13,4),INDEX(Language!B4:F35,13,5))))) -> Min vstup napětí @ MPP | F20: ='Calculation table'!B19 -> 30
B21: =IF(H3=5,INDEX(Language!B4:F35,14,1),IF(H3=4,INDEX(Language!B4:F35,14,2),IF(H3=3,INDEX(Language!B4:F35,14,3),IF(H3=2,INDEX(Language!B4:F35,14,4),INDEX(Language!B4:F35,14,5))))) -> Min napětí PV MAX Teplota | F21: ='Calculation table'!J35 -> 43.456121
B22: =IF(H3=5,INDEX(Language!B4:F35,15,1),IF(H3=4,INDEX(Language!B4:F35,15,2),IF(H3=3,INDEX(Language!B4:F35,15,3),IF(H3=2,INDEX(Language!B4:F35,15,4),INDEX(Language!B4:F35,15,5))))) -> Max výstup proud | F22: =INDEX(Regulator!B2:O38,Form!$C$12,14) -> 80 | G22: Actual current
B23: =IF(H3=5,INDEX(Language!B4:F35,16,1),IF(H3=4,INDEX(Language!B4:F35,16,2),IF(H3=3,INDEX(Language!B4:F35,16,3),IF(H3=2,INDEX(Language!B4:F35,16,4),INDEX(Language!B4:F35,16,5))))) -> Max proud@ MPP min. temp. | F23: =IF('Calculation table'!D18=0,"N.A.",'Calculation table'!E38) -> 80 | G23: ='Calculation table'!G38 -> 98.850091
F24: =IF(F23="N.A.","",IF('Calculation table'!E38=F22,IF(H3=5,INDEX(Language!B4:F35,27,1),IF(H3=4,INDEX(Language!B4:F35,27,2),IF(H3=3,INDEX(Language!B4:F35,27,3),IF(H3=2,INDEX(Language!B4:F35,27,4),INDEX(Language!B4:F35,27,5))))),"")) -> * Výkonový limit @ nizká tep.
B25: =IF(H3=5,INDEX(Language!B4:F35,17,1),IF(H3=4,INDEX(Language!B4:F35,17,2),IF(H3=3,INDEX(Language!B4:F35,17,3),IF(H3=2,INDEX(Language!B4:F35,17,4),INDEX(Language!B4:F35,17,5))))) -> Max proud @ MPP max. temp. | F25: =IF('Calculation table'!D18=0,"N.A.",'Calculation table'!F45) -> 77.356889 | G25: ='Calculation table'!G45 -> 77.356889
F26: =IF(F25="N.A.","",IF('Calculation table'!F45=F22,IF(H3=5,INDEX(Language!B4:F35,28,1),IF(H3=4,INDEX(Language!B4:F35,28,2),IF(H3=3,INDEX(Language!B4:F35,28,3),IF(H3=2,INDEX(Language!B4:F35,28,4),INDEX(Language!B4:F35,28,5))))),""))
B27: =IF(H3=5,INDEX(Language!B4:F35,18,1),IF(H3=4,INDEX(Language!B4:F35,18,2),IF(H3=3,INDEX(Language!B4:F35,18,3),IF(H3=2,INDEX(Language!B4:F35,18,4),INDEX(Language!B4:F35,18,5))))) -> Konfigurace panelů | F27: =IF(F19<=F18,IF(F23<=F22,IF(F21>F20,G27,H27),H27),H27) -> Akceptováno | G27: =IF(H3=5,INDEX(Language!B4:F40,37,1),IF(H3=4,INDEX(Language!B4:F40,37,2),IF(H3=3,INDEX(Language!B4:F40,37,3),IF(H3=2,INDEX(Language!B4:F40,37,4),INDEX(Language!B4:F40,37,5))))) -> Akceptováno | H27: =IF(H3=5,INDEX(Language!B4:F41,38,1),IF(H3=4,INDEX(Language!B4:F41,38,2),IF(H3=3,INDEX(Language!B4:F41,38,3),IF(H3=2,INDEX(Language!B4:F41,38,4),INDEX(Language!B4:F41,38,5))))) -> Neakceptováno
B29: Max temp. Watt | F29: =G25*F20 -> 2320.7067
B30: Min temp. Watt | F30: =G23*F20 -> 2965.5027
A31: =IF(H3=5,INDEX(Language!B4:F37,34,1),IF(H3=4,INDEX(Language!B4:F37,34,2),IF(H3=3,INDEX(Language!B4:F37,34,3),IF(H3=2,INDEX(Language!B4:F37,34,4),INDEX(Language!B4:F37,34,5))))) -> áno | H31: =IF(J31=TRUE,IF(H3=5,INDEX(Language!B4:F38,35,1),IF(H3=4,INDEX(Language!B4:F38,35,2),IF(H3=3,INDEX(Language!B4:F38,35,3),IF(H3=2,INDEX(Language!B4:F38,35,4),INDEX(Language!B4:F38,35,5))))),IF(H3=5,INDEX(Language!B4:F39,36,1),IF(H3=4,INDEX(Language!B4:F39,36,2),IF(H3=3,INDEX(Language!B4:F39,36,3),IF(H3=2,INDEX(Language!B4:F39,36,4),INDEX(Language!B4:F39,36,5)))))) -> Ne | J31: FALSE
A33: =IF(H3=5,INDEX(Language!B4:F35,19,1),IF(H3=4,INDEX(Language!B4:F35,19,2),IF(H3=3,INDEX(Language!B4:F35,19,3),IF(H3=2,INDEX(Language!B4:F35,19,4),INDEX(Language!B4:F35,19,5))))) -> Příklad lokací s očekávanou teplotou | G33: =IF(H3=5,INDEX(Language!B4:F35,7,1),IF(H3=4,INDEX(Language!B4:F35,7,2),IF(H3=3,INDEX(Language!B4:F35,7,3),IF(H3=2,INDEX(Language!B4:F35,7,4),INDEX(Language!B4:F35,7,5))))) -> Min. | H33: =IF(H3=5,INDEX(Language!B4:F35,8,1),IF(H3=4,INDEX(Language!B4:F35,8,2),IF(H3=3,INDEX(Language!B4:F35,8,3),IF(H3=2,INDEX(Language!B4:F35,8,4),INDEX(Language!B4:F35,8,5))))) -> Max.
A34: =IF(H3=5,INDEX(Language!B4:F35,20,1),IF(H3=4,INDEX(Language!B4:F35,20,2),IF(H3=3,INDEX(Language!B4:F35,20,3),IF(H3=2,INDEX(Language!B4:F35,20,4),INDEX(Language!B4:F35,20,5))))) -> Plochá karavan ,celý rok,špatná ventilace | G34: =IF(J31=TRUE,-10,0) -> 0 | H34: 70
A35: =IF(H3=5,INDEX(Language!B4:F35,21,1),IF(H3=4,INDEX(Language!B4:F35,21,2),IF(H3=3,INDEX(Language!B4:F35,21,3),IF(H3=2,INDEX(Language!B4:F35,21,4),INDEX(Language!B4:F35,21,5))))) -> Plochá karavan,léto,špatná ventilace | G35: =IF(J31=TRUE,5,15) -> 15 | H35: 70
A36: =IF(H3=5,INDEX(Language!B4:F35,22,1),IF(H3=4,INDEX(Language!B4:F35,22,2),IF(H3=3,INDEX(Language!B4:F35,22,3),IF(H3=2,INDEX(Language!B4:F35,22,4),INDEX(Language!B4:F35,22,5))))) -> Plochá na lodi, dobrá ventilace | G36: =IF(J31=TRUE,0,10) -> 10 | H36: 65
A37: =IF(H3=5,INDEX(Language!B4:F35,23,1),IF(H3=4,INDEX(Language!B4:F35,23,2),IF(H3=3,INDEX(Language!B4:F35,23,3),IF(H3=2,INDEX(Language!B4:F35,23,4),INDEX(Language!B4:F35,23,5))))) -> Zvednutá na lodi | G37: =IF(J31=TRUE,-5,5) -> 5 | H37: 60
A38: =IF(H3=5,INDEX(Language!B4:F35,24,1),IF(H3=4,INDEX(Language!B4:F35,24,2),IF(H3=3,INDEX(Language!B4:F35,24,3),IF(H3=2,INDEX(Language!B4:F35,24,4),INDEX(Language!B4:F35,24,5))))) -> Zvednutá na střeše, teplý region | G38: =IF(J31=TRUE,-5,5) -> 5 | H38: 70
A39: =IF(H3=5,INDEX(Language!B4:F35,25,1),IF(H3=4,INDEX(Language!B4:F35,25,2),IF(H3=3,INDEX(Language!B4:F35,25,3),IF(H3=2,INDEX(Language!B4:F35,25,4),INDEX(Language!B4:F35,25,5))))) -> Zvednutá na střeše, průměr region | G39: =IF(J31=TRUE,-10,0) -> 0 | H39: 65
A40: =IF(H3=5,INDEX(Language!B4:F35,26,1),IF(H3=4,INDEX(Language!B4:F35,26,2),IF(H3=3,INDEX(Language!B4:F35,26,3),IF(H3=2,INDEX(Language!B4:F35,26,4),INDEX(Language!B4:F35,26,5))))) -> Zvednutá na střeše, studený region | G40: =IF(J31=TRUE,-10,-5) -> -5 | H40: 60

Sheet Modules
B1: Manufacturer | C1: Type | D1: Power | E1: Vmpp | F1: Impp | G1: Voc | H1: Isc | I1: V temp coeff | J1: I temp coeff | K1: Dimension
B2: [name] | C2: [name] | D2: [W] | E2: [V] | F2: [A] | G2: [V] | H2: [A] | I2: [%/°C] | J2: [%/°C]
A3: =B3&" "&C3 -> Sunny Poly 160Wp 36 cells | B3: Sunny Poly 160Wp 36 cells | D3: 160 | E3: 19.17 | F3: 8.35 | G3: 22.76 | H3: 8.95 | I3: -0.38 | J3: 0.06
A4: Scheuten Solar 210 Wp P6-54 | B4: Scheuten Solar 210 Wp | C4: P6-54 | D4: 210 | E4: 25 | F4: 6.12 | G4: 31.1 | H4: 6.62 | I4: -0.34 | J4: 0.06
A5: Jinko Solar 225 Wp JKM245p-60 | B5: Jinko Solar 225 Wp | C5: JKM245p-60 | D5: 225 | E5: 29.4 | F5: 7.65 | G5: 36.7 | H5: 8.25 | I5: -0.27 | J5: 0.05
A6: =B6&" "&C6 -> Sunny Poly 270Wp 60 cells 270 VL4 | B6: Sunny Poly 270Wp 60 cells | C6: 270 VL4 | D6: 270 | E6: 31.6 | F6: 8.56 | G6: 38.8 | H6: 9.18 | I6: -0.31 | J6: 0.047
A7: (NOCT) GWL EXS-340M-B 253W | B7: (NOCT) GWL EXS-340M-B | C7: 253W | D7: 275 | E7: 32.2 | F7: 7.85 | G7: 38.6 | H7: 8.83 | I7: -0.25 | J7: 0.03
A8: Einnova ESP280 GWL/Sunny-60 cells | B8: Einnova ESP280 | C8: GWL/Sunny-60 cells | D8: 280 | E8: 31.4 | F8: 8.92 | G8: 38.2 | H8: 9.45 | I8: -0.33 | J8: 0.06
A9: Amerisolar AS-EU-6P30- 285W | B9: Amerisolar | C9: AS-EU-6P30- 285W | D9: 285 | E9: 31.7 | F9: 9 | G9: 38.7 | H9: 9.42 | I9: -0.33 | J9: 0.06
A10: =B10&" "&C10 -> Amerisolar 320Wp AS-6M30 | B10: Amerisolar 320Wp | C10: AS-6M30 | D10: 300 | E10: 32.4 | F10: 9.26 | G10: 39.6 | H10: 9.7 | I10: -0.38 | J10: 0.06
A11: DHM60 300W | B11: DHM60 | C11: 300W | D11: 300 | E11: 32.7 | F11: 9.19 | G11: 39.9 | H11: 9.64 | I11: -0.33 | J11: 0.06
A12: =B12&" "&C12 -> Jinko PERC JKM315M-60-V | B12: Jinko PERC | C12: JKM315M-60-V | D12: 315 | E12: 33.2 | F12: 9.49 | G12: 40.7 | H12: 10.4 | I12: -0.28 | J12: 0.06
A13: IBC 320 ZL-MB BLACK | B13: IBC | C13: 320 ZL-MB BLACK | D13: 320 | E13: 32.61 | F13: 9.83 | G13: 39.89 | H13: 10.35 | I13: -0.38 | J13: 0.07 | K13: 1696x1022x40 | L13: 2783 | M13: 8.696875
A14: WINAICO 325 WST-M6 PERC MONO 325W | B14: WINAICO 325 WST-M6 PERC MONO | C14: 325W | D14: 325 | E14: 33.92 | F14: 9.59 | G14: 40.7 | H14: 10.37 | I14: -0.29 | J14: 0.04 | K14: 1665x999x35
A15: (NOCT)GWL EXS-450MHC-B 363W | B15: (NOCT)GWL EXS-450MHC-B | C15: 363W | D15: 336 | E15: 38.6 | F15: 8.7 | G15: 46.2 | H15: 9.38 | I15: -0.26 | J15: 0.04
A16: (STC) GWLEXS-340M-B 340W | B16: (STC) GWLEXS-340M-B | C16: 340W | D16: 340 | E16: 34.2 | F16: 9.94 | G16: 41.7 | H16: 10.5 | I16: -0.33 | J16: 0.06
A17: =B17&" "&C17 -> GWL/POWER ESX-340M-B | B17: GWL/POWER | C17: ESX-340M-B | D17: 340 | E17: 34.2 | F17: 9.94 | G17: 41.7 | H17: 10.5 | I17: -0.3 | J17: 0.05 | K17: 1665*1002*35
A18: =B18&" "&C18 -> GWL EXS-380MHC-B 380W | B18: GWL EXS-380MHC-B | C18: 380W | D18: 380 | E18: 34.8 | F18: 10.92 | G18: 41.3 | H18: 11.69 | I18: -0.38 | J18: 0.06
A19: =B19&" "&C19 -> (STC)GWL EXS-450MHC-B 450W | B19: (STC)GWL EXS-450MHC-B | C19: 450W | D19: 450 | E19: 41.5 | F19: 10.84 | G19: 49.3 | H19: 11.6 | I19: -0.26 | J19: 0.04
A20: =B20&" "&C20 -> Amerisolar AS-6M144-HC-450W | B20: Amerisolar | C20: AS-6M144-HC-450W | D20: 450 | E20: 41.8 | F20: 10.77 | G20: 50.2 | H20: 11.28 | I20: -0.28 | J20: 0.05
A21: =B21&" "&C21 -> Swiss solar IBEX 132MHC-EiGER | B21: Swiss solar | C21: IBEX 132MHC-EiGER | D21: 500 | E21: 40.62 | F21: 12.31 | G21: 48.83 | H21: 13.2 | I21: -0.34 | J21: 0.045
A22: =B22&" "&C22 -> LEAPTON LP210-M-66-MH | B22: LEAPTON | C22: LP210-M-66-MH | D22: 650 | E22: 37.8 | F22: 17.28 | G22: 45.58 | H22: 18.16 | I22: -0.28 | J22: 0.05 | K22: 2384*1303*35
A31: Coefficient support:
A32: If you have the voltage temperature coefficient in mV/°C, here is how to change it to %/°C
A33: Write the Voc value in Volt: | C33: 24.1 | D33: V
A34: Write the coefficient value in mV/°C: | C34: -77 | D34: mV/°C
A35: The coefficent value in %/°C is now: | C35: =(C34/1000)/(C33/100) -> -0.31950207 | D35: %/°C
A37: If you have the current temperature coefficient in mA/°C, here is how to change it to %/°C
A38: Write the Isc value in Ampere: | C38: 8.72 | D38: A
A39: Write the coefficient value in mA/°C: | C39: 4.7 | D39: mA/°C
A40: The coefficent value in %/°C is now: | C40: =(C39/1000)/(C38/100) -> 0.053899083 | D40: %/°C

Sheet Regulator
B1: Manufacturer | C1: Type | D1: Power @ 12V | E1: Power @ 24V | F1: Power @ 36V | G1: Power @ 48V | H1: Voc max | I1: Voc min | J1: Vmpp min | K1: System Voltage | O1: Ibat max | P1: Efficiency@12 | Q1: Efficiency@24 | R1: Efficiency@36 | S1: Efficiency@48
A2: =B2&" "&C2 -> Victron Energy BlueSolar MPPT 75/15 | B2: Victron Energy | C2: BlueSolar MPPT 75/15 | D2: 200 | E2: 400 | F2: 0 | G2: 0 | H2: 75 | I2: 5 | J2: 1 | K2: 12 | L2: 24 | M2: N.A. | N2: N.A. | O2: 15 | P2: 0.98 | Q2: 0.98 | R2: 0 | S2: 0
A3: =B3&" "&C3 -> Victron Energy BlueSolar MPPT 75/50 | B3: Victron Energy | C3: BlueSolar MPPT 75/50 | D3: 700 | E3: 1400 | F3: 0 | G3: 0 | H3: 75 | I3: 5 | J3: 1 | K3: 12 | L3: 24 | M3: N.A. | N3: N.A. | O3: 50 | P3: 0.98 | Q3: 0.98 | R3: 0 | S3: 0
A4: =B4&" "&C4 -> Victron Energy BlueSolar MPPT 100/15 | B4: Victron Energy | C4: BlueSolar MPPT 100/15 | D4: 200 | E4: 400 | F4: 0 | G4: 0 | H4: 100 | I4: 5 | J4: 1 | K4: 12 | L4: 24 | M4: N.A. | N4: N.A. | O4: 15 | P4: 0.98 | Q4: 0.98 | R4: 0 | S4: 0
A5: =B5&" "&C5 -> Victron Energy BlueSolar MPPT 100/30 | B5: Victron Energy | C5: BlueSolar MPPT 100/30 | D5: 440 | E5: 880 | F5: 0 | G5: 0 | H5: 100 | I5: 5 | J5: 1 | K5: 12 | L5: 24 | M5: N.A. | N5: N.A. | O5: 30 | P5: 0.98 | Q5: 0.98 | R5: 0 | S5: 0
A6: =B6&" "&C6 -> Victron Energy BlueSolar MPPT 100/50 | B6: Victron Energy | C6: BlueSolar MPPT 100/50 | D6: 700 | E6: 1400 | F6: 0 | G6: 0 | H6: 100 | I6: 5 | J6: 1 | K6: 12 | L6: 24 | M6: N.A. | N6: N.A. | O6: 50 | P6: 0.98 | Q6: 0.98 | R6: 0 | S6: 0
A7: =B7&" "&C7 -> Victron Energy BlueSolar MPPT 150/35 | B7: Victron Energy | C7: BlueSolar MPPT 150/35 | D7: 500 | E7: 1000 | F7: 1500 | G7: 2000 | H7: 150 | I7: 5 | J7: 1 | K7: 12 | L7: 24 | M7: 36 | N7: 48 | O7: 35 | P7: 0.98 | Q7: 0.98 | R7: 0.98 | S7: 0.98
A8: =B8&" "&C8 -> Victron Energy BlueSolar MPPT 150/70 | B8: Victron Energy | C8: BlueSolar MPPT 150/70 | D8: 1000 | E8: 2000 | F8: 3000 | G8: 4000 | H8: 150 | I8: 7 | J8: 2 | K8: 12 | L8: 24 | M8: 36 | N8: 48 | O8: 70 | P8: 0.95 | Q8: 0.965 | R8: 0.97 | S8: 0.975
A9: =B9&" "&C9 -> Victron Energy BlueSolar MPPT 150/85 | B9: Victron Energy | C9: BlueSolar MPPT 150/85 | D9: 1200 | E9: 2400 | F9: 3600 | G9: 4850 | H9: 150 | I9: 7 | J9: 2 | K9: 12 | L9: 24 | M9: 36 | N9: 48 | O9: 85 | P9: 0.95 | Q9: 0.965 | R9: 0.97 | S9: 0.975
A10: =B10&" "&C10 -> EPEVER XTRA1206N | B10: EPEVER | C10: XTRA1206N | D10: 130 | E10: 260 | F10: 0 | G10: 0 | H10: 60 | I10: 5 | J10: 1 | K10: 12 | L10: 24 | M10: N.A. | N10: N.A. | O10: 10 | P10: 0.95 | Q10: 0.965 | R10: 0 | S10: 0
A11: =B11&" "&C11 -> EPEVER XTRA1210N | B11: EPEVER | C11: XTRA1210N | D11: 130 | E11: 260 | F11: 0 | G11: 0 | H11: 100 | I11: 5 | J11: 1 | K11: 12 | L11: 24 | M11: N.A. | N11: N.A. | O11: 10 | P11: 0.95 | Q11: 0.965 | R11: 0 | S11: 0
A12: =B12&" "&C12 -> EPEVER XTRA2210N | B12: EPEVER | C12: XTRA2210N | D12: 260 | E12: 520 | F12: 0 | G12: 0 | H12: 100 | I12: 5 | J12: 1 | K12: 12 | L12: 24 | M12: N.A. | N12: N.A. | O12: 20 | P12: 0.95 | Q12: 0.965 | R12: 0 | S12: 0
A13: =B13&" "&C13 -> EPEVER XTRA3210N | B13: EPEVER | C13: XTRA3210N | D13: 390 | E13: 780 | F13: 0 | G13: 0 | H13: 100 | I13: 5 | J13: 1 | K13: 12 | L13: 24 | M13: N.A. | N13: N.A. | O13: 30 | P13: 0.95 | Q13: 0.965 | R13: 0 | S13: 0
A14: =B14&" "&C14 -> EPEVER XTRA3215N | B14: EPEVER | C14: XTRA3215N | D14: 390 | E14: 780 | F14: 0 | G14: 0 | H14: 150 | I14: 5 | J14: 1 | K14: 12 | L14: 24 | M14: N.A. | N14: N.A. | O14: 30 | P14: 0.95 | Q14: 0.965 | R14: 0 | S14: 0
A15: =B15&" "&C15 -> EPEVER XTRA4210N | B15: EPEVER | C15: XTRA4210N | D15: 520 | E15: 1040 | F15: 0 | G15: 0 | H15: 100 | I15: 5 | J15: 1 | K15: 12 | L15: 24 | M15: N.A. | N15: N.A. | O15: 40 | P15: 0.95 | Q15: 0.965 | R15: 0 | S15: 0
A16: =B16&" "&C16 -> EPEVER XTRA4415N | B16: EPEVER | C16: XTRA4415N | D16: 520 | E16: 1040 | F16: 1560 | G16: 2080 | H16: 150 | I16: 5 | J16: 1 | K16: 12 | L16: 24 | M16: 36 | N16: 48 | O16: 40 | P16: 0.95 | Q16: 0.95 | R16: 0.97 | S16: 0.975
A17: =B17&" "&C17 -> EPEVER XTRA3415N | B17: EPEVER | C17: XTRA3415N | D17: 390 | E17: 780 | F17: 1170 | G17: 1560 | H17: 150 | I17: 5 | J17: 1 | K17: 12 | L17: 24 | M17: 36 | N17: 48 | O17: 30 | P17: 0.95 | Q17: 0.95 | R17: 0.97 | S17: 0.975
A18: =B18&" "&C18 -> EPEVER Tracer 5210 AN | B18: EPEVER | C18: Tracer 5210 AN | D18: 625 | E18: 1250 | F18: 0 | G18: 0 | H18: 100 | I18: 5 | J18: 2 | K18: 12 | L18: 24 | M18: N.A. | N18: N.A. | O18: 50 | P18: 0.97 | Q18: 0.97 | R18: 0.97 | S18: 0.97
A19: =B19&" "&C19 -> EPEVER Tracer 6210 AN | B19: EPEVER | C19: Tracer 6210 AN | D19: 750 | E19: 1500 | F19: 0 | G19: 0 | H19: 100 | I19: 5 | J19: 2 | K19: 12 | L19: 24 | M19: N.A. | N19: N.A. | O19: 60 | P19: 0.97 | Q19: 0.97 | R19: 0.97 | S19: 0.97
A20: =B20&" "&C20 -> EPEVER Tracer 5415 AN | B20: EPEVER | C20: Tracer 5415 AN | D20: 625 | E20: 1250 | F20: 1875 | G20: 2500 | H20: 150 | I20: 5 | J20: 2 | K20: 12 | L20: 24 | M20: 36 | N20: 48 | O20: 50 | P20: 0.97 | Q20: 0.97 | R20: 0.97 | S20: 0.97
A21: =B21&" "&C21 -> EPEVER Tracer 6415 AN | B21: EPEVER | C21: Tracer 6415 AN | D21: 750 | E21: 1500 | F21: 2250 | G21: 3000 | H21: 150 | I21: 5 | J21: 2 | K21: 12 | L21: 24 | M21: 36 | N21: 48 | O21: 60 | P21: 0.98 | Q21: 0.98 | R21: 0.98 | S21: 0.98
A22: =B22&" "&C22 -> EPEVER Tracer 8415 AN | B22: EPEVER | C22: Tracer 8415 AN | D22: 1000 | E22: 2000 | F22: 3000 | G22: 4000 | H22: 150 | I22: 5 | J22: 2 | K22: 12 | L22: 24 | M22: 36 | N22: 48 | O22: 80 | P22: 0.98 | Q22: 0.98 | R22: 0.98 | S22: 0.98
A23: =B23&" "&C23 -> EPEVER Tracer 10415 AN | B23: EPEVER | C23: Tracer 10415 AN | D23: 1250 | E23: 2500 | F23: 3750 | G23: 5000 | H23: 150 | I23: 5 | J23: 2 | K23: 12 | L23: 24 | M23: 36 | N23: 48 | O23: 100 | P23: 0.98 | Q23: 0.98 | R23: 0.98 | S23: 0.98
A24: =B24&" "&C24 -> EPEVER Tracer 5420 AN | B24: EPEVER | C24: Tracer 5420 AN | D24: 625 | E24: 1250 | F24: 1875 | G24: 2500 | H24: 200 | I24: 5 | J24: 2 | K24: 12 | L24: 24 | M24: 36 | N24: 48 | O24: 50 | P24: 0.97 | Q24: 0.97 | R24: 0.97 | S24: 0.97
A25: =B25&" "&C25 -> EPEVER Tracer 6420 AN | B25: EPEVER | C25: Tracer 6420 AN | D25: 750 | E25: 1500 | F25: 2250 | G25: 3000 | H25: 200 | I25: 5 | J25: 2 | K25: 12 | L25: 24 | M25: 36 | N25: 48 | O25: 60 | P25: 0.97 | Q25: 0.95 | R25: 0.97 | S25: 0.975
A26: =B26&" "&C26 -> EPEVER Tracer 8420 AN | B26: EPEVER | C26: Tracer 8420 AN | D26: 1000 | E26: 2000 | F26: 3000 | G26: 4000 | H26: 200 | I26: 5 | J26: 2 | K26: 12 | L26: 24 | M26: 36 | N26: 48 | O26: 80 | P26: 0.97 | Q26: 0.95 | R26: 0.97 | S26: 0.975
A27: =B27&" "&C27 -> EPEVER Tracer 10420 AN | B27: EPEVER | C27: Tracer 10420 AN | D27: 1250 | E27: 2500 | F27: 3750 | G27: 5000 | H27: 200 | I27: 5 | J27: 2 | K27: 12 | L27: 24 | M27: 36 | N27: 48 | O27: 100 | P27: 0.97 | Q27: 0.95 | R27: 0.97 | S27: 0.975
A28: =B28&" "&C28 -> Axpert King 48V 5000W PF1 60-115V | B28: Axpert | C28: King 48V 5000W PF1 60-115V | D28: 0 | E28: 0 | F28: 0 | G28: 4000 | H28: 145 | I28: 72 | J28: 80 | K28: N.A. | L28: N.A. | M28: N.A. | N28: 48 | O28: 80 | P28: N.A. | Q28: N.A. | R28: N.A. | S28: 0.9
A29: =B29&" "&C29 -> Axpert VM III 48V 5000W PF1 120-450V | B29: Axpert | C29: VM III 48V 5000W PF1 120-450V | D29: 0 | E29: 0 | F29: 0 | G29: 5000 | H29: 450 | I29: 72 | J29: 80 | K29: N.A. | L29: N.A. | M29: N.A. | N29: 48 | O29: 100 | P29: N.A. | Q29: N.A. | R29: N.A. | S29: 0.93
A30: =B30&" "&C30 -> Axpert KING 48V 5000W 60-115V | B30: Axpert | C30: KING 48V 5000W 60-115V | D30: 0 | E30: 0 | F30: 0 | G30: 3000 | H30: 145 | I30: 72 | J30: 80 | K30: N.A. | L30: N.A. | M30: N.A. | N30: 48 | O30: 60 | P30: N.A. | Q30: N.A. | R30: N.A. | S30: 0.93

Sheet Calculation table
A2: DATA:
A4: Location: | B4: =Form!E10 -> -15 | C4: min
B5: =Form!G10 -> 70 | C5: max
A7: Module info: | B7: =INDEX(Modules!B3:J29,Form!D4,6)*Form!D6 -> 73.4 | C7: Voc @25°C
B8: =INDEX(Modules!B3:J29,Form!D4,4)*Form!D6 -> 58.8 | C8: Vmpp @25°C
B9: =INDEX(Modules!B3:J29,Form!D4,7)*Form!G6 -> 41.25 | C9: Isc PV@25°C
B10: =INDEX(Modules!B3:J29,Form!D4,5)*Form!G6 -> 38.25 | C10: Impp PV @25°C
B11: =$B$10*$B$8/D18 -> 93.7125 | C11: Impp output @25°C
B12: =INDEX(Modules!B3:J29,Form!D4,8) -> -0.27 | C12: Temp. Coeff. Voc
B13: =(B7/100)*B12 -> -0.19818 | C13: Temp. Coeff. Voc absolute
B14: =INDEX(Modules!B3:J29,Form!D4,9) -> 0.05 | C14: Temp. Coeff. Isc
B15: =B9*(B14/100) -> 0.020625 | C15: Temp. Coeff. Isc absolute
A17: Regulator info: | B17: =INDEX(Regulator!$B$2:$H$38,Form!$C$12,7) -> 200 | C17: Voc max | D17: =INDEX(Regulator!B2:O38,Form!$C$12,14) -> 80 | E17: Ibat max
A18: =B18-D18 -> 5 | B18: =INDEX(Regulator!B2:J38,Form!C12,8)+D18 -> 29 | C18: Voc min | D18: =IF(INDEX(Form!$J$11:$J$14,Form!$E$14,1)="N.A.",0,INDEX(Form!$J$11:$J$14,Form!$E$14,1)) -> 24 | E18: System voltage | F18: =IF(D18=12,15,IF(D18=24,16,IF(D18=36,17,18))) -> 16
B19: =INDEX(Regulator!$B$2:$J$50,Form!$E$14,9)+D18+A18 -> 30 | C19: Vmpp min | D19: =INDEX(Regulator!B2:S38,Form!$C$12,F18) -> 0.95 | E19: Max. Efficiency
A21: Voltage drop: | B21: 0.0178 | C21: Cupper resistance
B22: =((Form!E16+Form!E16)*B21)/Form!G16 -> 0.083066667 | C22: Factor
A25: RESULTS:
F26: PMw= BATTERY VOLTAGE | I26: PMw= BATTERY VOLTAGE
A27: Temperature | B27: Voc max. | C27: Voc START min. | D27: Vmpp RUN min. | E27: String Voc max. | F27: String Vmpp max. | G27: String Vmpp corr.max. | H27: String Voc min. | I27: String Vmpp min. | J27: String Vmpp corr. min.
A28: =B4 -> -15 | B28: =$B$17 -> 200 | C28: =$B$18 -> 29 | D28: =$B$19 -> 30 | E28: =$B$7+($B$13*-(25-A28)) -> 81.3272 | F28: =$B$8+($B$13*-(25-A28)) -> 66.7272 | G28: =($B$8+($B$13*-(25-A28))-($B$22*E38)) -> 60.081867
A29: =A28+5 -> -10 | B29: =$B$17 -> 200 | C29: =$B$18 -> 29 | D29: =$B$19 -> 30 | E29: =$B$7+($B$13*-(25-A29)) -> 80.3363 | F29: =$B$8+($B$13*-(25-A29)) -> 65.7363 | G29: =($B$8+($B$13*-(25-A29))-($B$22*E39)) -> 59.090967
A30: =A29+5 -> -5 | B30: =$B$17 -> 200 | C30: =$B$18 -> 29 | D30: =$B$19 -> 30 | E30: =$B$7+($B$13*-(25-A30)) -> 79.3454 | F30: =$B$8+($B$13*-(25-A30)) -> 64.7454 | G30: =($B$8+($B$13*-(25-A30))-($B$22*E40)) -> 58.100067
A31: =A30+5 -> 0 | B31: =$B$17 -> 200 | C31: =$B$18 -> 29 | D31: =$B$19 -> 30 | E31: =$B$7+($B$13*-(25-A31)) -> 78.3545 | F31: =$B$8+($B$13*-(25-A31)) -> 63.7545 | G31: =($B$8+($B$13*-(25-A31))-($B$22*E41)) -> 57.109167
A32: =A33-5 -> 55 | B32: =$B$17 -> 200 | C32: =$B$18 -> 29 | D32: =$B$19 -> 30 | F32: =$B$8+($B$13*-(25-A32)) -> 52.8546 | H32: =$B$7+($B$13*-(25-A32)) -> 67.4546 | I32: =$B$8+($B$13*-(25-A32)) -> 52.8546 | J32: =$B$8+($B$13*-(25-A32))-($B$22*F42) -> 46.209267
A33: =A34-5 -> 60 | B33: =$B$17 -> 200 | C33: =$B$18 -> 29 | D33: =$B$19 -> 30 | F33: =$B$8+($B$13*-(25-A33)) -> 51.8637 | H33: =$B$7+($B$13*-(25-A33)) -> 66.4637 | I33: =$B$8+($B$13*-(25-A33)) -> 51.8637 | J33: =$B$8+($B$13*-(25-A33))-($B$22*F43) -> 45.218367
A34: =A35-5 -> 65 | B34: =$B$17 -> 200 | C34: =$B$18 -> 29 | D34: =$B$19 -> 30 | F34: =$B$8+($B$13*-(25-A34)) -> 50.8728 | H34: =$B$7+($B$13*-(25-A34)) -> 65.4728 | I34: =$B$8+($B$13*-(25-A34)) -> 50.8728 | J34: =$B$8+($B$13*-(25-A34))-($B$22*F44) -> 44.336623
A35: =B5 -> 70 | B35: =$B$17 -> 200 | C35: =$B$18 -> 29 | D35: =$B$19 -> 30 | F35: =$B$8+($B$13*-(25-A35)) -> 49.8819 | H35: =$B$7+($B$13*-(25-A35)) -> 64.4819 | I35: =$B$8+($B$13*-(25-A35)) -> 49.8819 | J35: =$B$8+($B$13*-(25-A35))-($B$22*F45) -> 43.456121
A37: Temperature | B37: Ibat max. | C37: Impp PV max. | D37: System Voltage | E37: Ibat max. @ Impp | F37: Ibat min. @ Impp | G37: String I max.
A38: =B4 -> -15 | B38: =$D$17 -> 80 | C38: =$B$10+($B$15*-(25-A38)) -> 37.425 | D38: =$D$18 -> 24 | E38: =IF((((C38*F28)/D38)*$D$19)>$D$17,$D$17,(((C38*F28)/D38)*$D$19)) -> 80 | G38: =C38*F28/D38*$D$19 -> 98.850091
A39: =A38+5 -> -10 | B39: =$D$17 -> 80 | C39: =$B$10+($B$15*-(25-A39)) -> 37.528125 | D39: =$D$18 -> 24 | E39: =IF((((C39*F29)/D39)*$D$19)>$D$17,$D$17,(((C39*F29)/D39)*$D$19)) -> 80 | G39: =C39*F29/D39*$D$19 -> 97.650503
A40: =A39+5 -> -5 | B40: =$D$17 -> 80 | C40: =$B$10+($B$15*-(25-A40)) -> 37.63125 | D40: =$D$18 -> 24 | E40: =IF((((C40*F30)/D40)*$D$19)>$D$17,$D$17,(((C40*F30)/D40)*$D$19)) -> 80 | G40: =C40*F30/D40*$D$19 -> 96.442826
A41: =A40+5 -> 0 | B41: =$D$17 -> 80 | C41: =$B$10+($B$15*-(25-A41)) -> 37.734375 | D41: =$D$18 -> 24 | E41: =IF((((C41*F31)/D41)*$D$19)>$D$17,$D$17,(((C41*F31)/D41)*$D$19)) -> 80 | G41: =C41*F31/D41*$D$19 -> 95.227058
A42: =A43-5 -> 55 | B42: =$D$17 -> 80 | C42: =$B$10+($B$15*-(25-A42)) -> 38.86875 | D42: =$D$18 -> 24 | F42: =IF(((C42*I32)/D42*$D$19)>$D$17,$D$17,((C42*I32)/D42*$D$19)) -> 80 | G42: =C42*F32/D42*$D$19 -> 81.319693
A43: =A44-5 -> 60 | B43: =$D$17 -> 80 | C43: =$B$10+($B$15*-(25-A43)) -> 38.971875 | D43: =$D$18 -> 24 | F43: =IF(((C43*I33)/D43*$D$19)>$D$17,$D$17,((C43*I33)/D43*$D$19)) -> 80 | G43: =C43*F33/D43*$D$19 -> 80.006848
A44: =A45-5 -> 65 | B44: =$D$17 -> 80 | C44: =$B$10+($B$15*-(25-A44)) -> 39.075 | D44: =$D$18 -> 24 | F44: =IF(((C44*I34)/D44*$D$19)>$D$17,$D$17,((C44*I34)/D44*$D$19)) -> 78.685914 | G44: =C44*F34/D44*$D$19 -> 78.685914
A45: =B5 -> 70 | B45: =$D$17 -> 80 | C45: =$B$10+($B$15*-(25-A45)) -> 39.178125 | D45: =$D$18 -> 24 | F45: =IF(((C45*I35)/D45*$D$19)>$D$17,$D$17,((C45*I35)/D45*$D$19)) -> 77.356889 | G45: =C45*F35/D45*$D$19 -> 77.356889

Sheet Language
B1: =IF(Form!H3=5,"V"," ") | C1: =IF(Form!H3=4,"V"," ") -> V | D1: =IF(Form!H3=3,"V"," ") | E1: =IF(Form!H3=2,"V"," ") | F1: =IF(Form!H3=1,"V"," ")
A2: Pos. | B2: ENGLISH | C2: Czech | D2: ESPANGOL | E2: DEUTSCH | F2: FRANCAIS
A4: 1 | B4: Module: | C4: Panel | D4: Módulo FV: | E4: Modul: | F4: Panneau:
A5: 2 | B5: In series: | C5: V serii | D5: Cuantos módulos? En Serie: | E5: In Reihe: | F5: En serie:
A6: 3 | B6: Parallel: | C6: Paralelně | D6: En paralelo: | E6: Parallel: | F6: Parallèle:
A7: 4 | B7: Total PV power: | C7: Celkový výkon PV | D7: Potencia total FV: | E7: PV Leistung insgesamt: | F7: Puissance PV totale:
A8: 5 | B8: Wp | C8: Wp | D8: Wp | E8: Wp | F8: Wc
A9: 6 | B9: Module temperature: | C9: Teplota panelu | D9: Temp. módulo FV | E9: Modul Temperatur: | F9: Température Paneau:
A10: 7 | B10: Min. | C10: Min. | D10: Min. | E10: Min. | F10: Min.
A11: 8 | B11: Max. | C11: Max. | D11: Max. | E11: Max. | F11: Max.
A12: 9 | B12: Controller: | C12: Regulátor | D12: Reguladorr: | E12: Regler: | F12: Régulateur:
A13: 10 | B13: System voltage: | C13: Systémové napětí | D13: Voltaje del sistema: | E13: System Spannung: | F13: Tension du système:
A14: 11 | B14: Max. input voltage | C14: Max vstup napětí | D14: Voltaje max. de entrada | E14: Max. Eingangspannung: | F14: Tension d'entrée max.:
A15: 12 | B15: Max. PV voltage @ min. temperature | C15: Max napětí PV MIN Teplota | D15: Voltaje max. FV @ Temperatura min. | E15: Max. PV Spannung @ min. Temp. | F15: PV tension max. @ temp. min.
... A41: 38 | B41: NOT accepted | C41: Neakceptováno | D41: NO aceptado | E41: NICHT erlaubt | F41: PAS accepté

Sheet Version
A1: History
A3: 1.9 | B3: - Added new solar modules, and now 10 additional modules can be added instead of 3.
A4: 1.8 | B4: - Added a small calculation on the 'Modules' TAB to help when temperature coefficiences are not in %/°C or %/°K but in mV/°C or mA/°C
A5: 1.7 | B5: - Added new solar modules, voltage drop correction and an option to rise the cell temperature in the example list, when the solar modules do not see snow and therefor temperatures will not be so low.
A6: 1.6 | B6: - Inserted 4 new regulators and 2 more custom module.
A7: 1.5 | B7: - Inserted 4 languages @ updated not applicable (N.A.) voltages for 75/15, 75/50 & 100/15.
A8: 1.4 | B8: - Changed texts and Module temperature window.
A9: 1.3 | B9: - Power reduction comment set @ highest temperature.
A10: 1.2 | B10: - Reduced output current to maximum output current at low & high temperatures. Now a system will show 'power loss' only wenn the output current exceeds the max. at low & high temperatures.
A11: 1.1 | B11: - Inserted BlueSolar MPPT 100/15
B12: - Inserted custom module
A13: 1.0 | B13: - First version

Sheet List1
A1: Regulator type | B1: Power @ 12V | C1: Power @ 24V | D1: Power @ 48V | E1: Voc max | F1: Ibat max | G1: Modul | H1: =Form!B19 -> Max napětí PV MIN Teplota
A2: EPsolar PMW VS2024AU | B2: 240 | C2: 480 | D2: 0 | E2: 50 | F2: 20
A3: EPsolar XTRA3210 | B3: 390 | C3: 780 | D3: 0 | E3: 100 | F3: 30 | G3: 285W | H3: =Form!F19 -> 81.3272
A5: Modul type | B5: Power | C5: Vmpp | D5: Impp | E5: Voc | F5: Isc
B6: [W] | C6: [V] | D6: [A] | E6: [V] | F6: [A]
A7: Amerisolar AS-EU-6P30- 285W | B7: 285 | C7: 31.7 | D7: 9 | E7: 38.7 | F7: 9.42
A8: GWL/POWER HS 150W 36cells | B8: 150 | C8: 18 | D8: 8.93 | E8: 22.38 | F8: 8.94
A12: EPsolar XTRA3210
A13: Power @ 12V | B13: 390 | C13: W
A14: Power @ 24V | B14: 780 | C14: W
A15: Power @ 48V | B15: 0 | C15: W
A16: Voc max | B16: 100 | C16: V
A17: Ibat max | B17: 30 | C17: A
A18: Amerisolar AS-EU-6P30- 285W
A19: Modul | B19: 285 | C19: Wp
A20: Vmpp | B20: 31.7 | C20: V
A21: Impp | B21: 9 | C21: A
A22: Rolls 4000 S105 blok 12V 106Ah
A23: Capacity C20 | B23: 85 | C23: Ah
A24: Recommended charge | B24: 10 | C24: A
A26: Max. PV voltage @ min. temperature | B26: =Form!F19 -> 81.3272 | C26: V
A27: Min. PV voltage @ max. temperature | B27: =Form!F21 -> 43.456121 | C27: V
A28: Max. current @ MPP min. temp. | B28: =Form!F23 -> 80 | C28: A
A29: Max. current @ MPP max. temp. | B29: =Form!F25 -> 77.356889 | C29: A
